BEGIN:VCALENDAR
VERSION:2.0
PRODID: -//CMS 5.0 //NONSGML //DE
BEGIN:VEVENT
SUMMARY:Seniorenchorprobe
DESCRIPTION:\n\nhttps://weyhe.nak-nordost.de/db/566920
UID:566920@weyhe.nak-nordost.de
LOCATION:Eva Westphal
CATEGORIES:Proben,Senioren,Kirchenbezirk Bremen (Alle Gemeinden)
X-ORGANIZER:
STATUS:CONFIRMED
CLASS:PUBLIC
DTSTART:20260521T133000Z
DTEND:20260521T133000Z
DTSTAMP:20260422T133044Z
CREATED:20251221T161727Z
LAST-MODIFIED:20251221T161727Z
BEGIN:VALARM
UID:76FC7A64-3E4F-11F1-B911-008A67372A87
TRIGGER:-PT60M
ACTION:DISPLAY
DESCRIPTION:SUMMARY:Seniorenchorprobe
END:VALARM
END:VEVENT
END:VCALENDAR
